BEGIN:VCALENDAR
VERSION:2.0
PRODID:-//ChamberMaster//Event Calendar 2.0//EN
METHOD:PUBLISH
X-PUBLISHED-TTL:P3D
REFRESH-INTERVAL:P3D
CALSCALE:GREGORIAN
BEGIN:VEVENT
DTSTART:20300502T220000Z
DTEND:20300502T230000Z
X-MICROSOFT-CDO-ALLDAYEVENT:FALSE
SUMMARY:Small Business Council
DESCRIPTION:For more information on how to join the Small Business Council\, please email Oliver Gutierrez: ogutierrez@oaklandchamber.com
X-ALT-DESC;FMTTYPE=text/html:For more information on how to join the Small Business Council\, please email Oliver Gutierrez: ogutierrez@oaklandchamber.com
LOCATION:
UID:e.1392.20568
SEQUENCE:3
DTSTAMP:20260425T005108Z
URL:https://business.oaklandchamber.com/events/details/small-business-council-05-02-2030-20568
END:VEVENT

END:VCALENDAR
