BEGIN:VCALENDAR
VERSION:2.0
PRODID:-//ChamberMaster//Event Calendar 2.0//EN
METHOD:PUBLISH
X-PUBLISHED-TTL:P3D
REFRESH-INTERVAL:P3D
CALSCALE:GREGORIAN
BEGIN:VEVENT
DTSTART:20221019T170000Z
DTEND:20221019T181500Z
X-MICROSOFT-CDO-ALLDAYEVENT:FALSE
SUMMARY:Pulse of Oakland: Annual Voter Opinion Poll Event
DESCRIPTION:Presented by:\n\nDave Metz\, Principal
X-ALT-DESC;FMTTYPE=text/html:Presented by:<br />\nDave Metz\, Principal
LOCATION:Zoom Register for link
UID:e.1392.20305
SEQUENCE:3
DTSTAMP:20260425T141642Z
URL:https://business.oaklandchamber.com/events/details/pulse-of-oakland-annual-voter-opinion-poll-event-10-19-2022-20305
END:VEVENT

END:VCALENDAR
