BEGIN:VCALENDAR
VERSION:2.0
PRODID:-//ChamberMaster//Event Calendar 2.0//EN
METHOD:PUBLISH
X-PUBLISHED-TTL:P3D
REFRESH-INTERVAL:P3D
CALSCALE:GREGORIAN
BEGIN:VEVENT
DTSTART:20241008T160000Z
DTEND:20241008T170000Z
X-MICROSOFT-CDO-ALLDAYEVENT:FALSE
SUMMARY:Public Policy Committee
DESCRIPTION:For more information about joining the Public Policy Committee\, please email Max Giella: mgiella@oaklandchamber.com
X-ALT-DESC;FMTTYPE=text/html:For more information about joining the Public Policy Committee\, please email Max Giella: mgiella@oaklandchamber.com
LOCATION:
UID:e.1392.20646
SEQUENCE:3
DTSTAMP:20260424T071243Z
URL:https://business.oaklandchamber.com/events/details/public-policy-committee-20646
END:VEVENT

END:VCALENDAR
