BEGIN:VCALENDAR
VERSION:2.0
PRODID:-//ChamberMaster//Event Calendar 2.0//EN
METHOD:PUBLISH
X-PUBLISHED-TTL:P3D
REFRESH-INTERVAL:P3D
CALSCALE:GREGORIAN
BEGIN:VEVENT
DTSTART:20221118T170000Z
DTEND:20221118T183000Z
X-MICROSOFT-CDO-ALLDAYEVENT:FALSE
SUMMARY:Inside Oakland: Mobile Assistance Community Responders of Oakland (MACRO) Program
DESCRIPTION:Featuring Elliott Jones\, Program Manager for city of Oakland's MACRO program.
X-ALT-DESC;FMTTYPE=text/html:Featuring Elliott Jones\, Program Manager for city of Oakland&#39\;s MACRO program.
LOCATION:Zoom Register for Link
UID:e.1392.20304
SEQUENCE:3
DTSTAMP:20260425T123025Z
URL:https://business.oaklandchamber.com/events/details/inside-oakland-mobile-assistance-community-responders-of-oakland-macro-program-11-18-2022-20304
END:VEVENT

END:VCALENDAR
