BEGIN:VCALENDAR
VERSION:2.0
PRODID:-//ChamberMaster//Event Calendar 2.0//EN
METHOD:PUBLISH
X-PUBLISHED-TTL:P3D
REFRESH-INTERVAL:P3D
CALSCALE:GREGORIAN
BEGIN:VEVENT
DTSTART:20260130T000000Z
DTEND:20260130T013000Z
X-MICROSOFT-CDO-ALLDAYEVENT:FALSE
SUMMARY:Inside Oakland
DESCRIPTION:Join the Oakland Metro Chamber this January for a special Inside Oakland conversation featuring Senator Jesse Arreguin\, Assemblymember Buffy Wicks\, and Assemblymember Mia Bonta. These influential East Bay leaders will come together to discuss the state and federal policies shaping Oakland and the broader region\, from housing affordability and homelessness to education\, workforce development\, and economic stability.\n\nSenator Jesse Arregu n represents California's 7th Senate District\, including Berkeley\, Oakland\, and surrounding East Bay communities. Former Mayor of Berkeley\, Senator Arregu n\, has dedicated his career to promoting affordable housing\, preventing homelessness\, achieving education equity\, and improving infrastructure. With a long record of advancing policies that strengthen families and protect renters\, he continues to champion solutions that create stable\, thriving communities across the East Bay.\n\nAssemblymember Buffy Wicks represents California's 15th Assembly District\, spanning Oakland to Richmond and including Berkeley. A lifelong community organizer who previously served in the Obama administration and on President Obama's campaigns\, Wicks was recently appointed Chair of the Assembly Appropriations Committee. She focuses on housing and homelessness solutions\, expanding the social safety net\, protecting children in the digital world\, and championing the rights of women and working families. Drawing on her experience in public service and community leadership\, she continues to advance initiatives that ensure equity and opportunity reach every corner of her district.\n\nAssemblymember Mia Bonta represents California's 18th Assembly District\, including Oakland\, Emeryville\, and Alameda. Bonta has spent her career advocating for students and working families\, previously serving as CEO of Oakland Promise and as President of the Alameda Unified School District Board. Her district priorities include education and healthcare equity\, affordable housing\, criminal justice reform\, and climate action. Building on her extensive experience in education and community advocacy\, she continues to lead efforts that create a more inclusive and resilient East Bay.
X-ALT-DESC;FMTTYPE=text/html:<p data-end="366" data-start="201" style="caret-color: rgb(0\, 0\, 0)\; color: rgb(0\, 0\, 0)\;"><span style="font-family:arial\;"><span style="font-size:14px\;">Join the Oakland Metro Chamber this January for a special Inside Oakland conversation featuring Senator Jesse Arreguin\, Assemblymember Buffy Wicks\, and Assemblymember Mia Bonta.&nbsp\;These influential East Bay leaders will come together to discuss the state and federal policies shaping Oakland and the broader region\, from housing affordability and homelessness to education\, workforce development\, and economic stability.</span></span></p>\n\n<p data-end="877" data-start="368" style="caret-color: rgb(0\, 0\, 0)\; color: rgb(0\, 0\, 0)\;"><span style="font-size:14px\;"><span style="font-family:arial\;">Senator Jesse Arregu&iacute\;n represents California&rsquo\;s 7th Senate District\, including Berkeley\, Oakland\, and surrounding East Bay communities. Former Mayor of Berkeley\, Senator Arregu&iacute\;n\, has dedicated his career to promoting affordable housing\, preventing homelessness\, achieving education equity\, and improving infrastructure. With a long record of advancing policies that strengthen families and protect renters\, he continues to champion solutions that create stable\, thriving communities across the East Bay.</span></span></p>\n\n<p data-end="1564" data-start="879" style="caret-color: rgb(0\, 0\, 0)\; color: rgb(0\, 0\, 0)\;"><span style="font-size:14px\;"><span style="font-family:arial\;"><span style="caret-color: rgb(0\, 0\, 0)\; color: rgb(0\, 0\, 0)\;">Assemblymember Buffy Wicks represents California&rsquo\;s 15th Assembly District\, spanning Oakland to Richmond and including Berkeley.</span>&nbsp\;A lifelong community organizer who previously served in the Obama administration and on President Obama&rsquo\;s campaigns\, Wicks was recently appointed Chair of the Assembly Appropriations Committee. She focuses on housing and homelessness solutions\, expanding the social safety net\, protecting children in the digital world\, and championing the rights of women and working families. Drawing on her experience in public service and community leadership\, she continues to advance initiatives that ensure equity and opportunity reach every corner of her district.</span></span></p>\n\n<p data-end="2160" data-start="1566" style="caret-color: rgb(0\, 0\, 0)\; color: rgb(0\, 0\, 0)\;"><span style="font-size:14px\;"><span style="font-family:arial\;">Assemblymember Mia Bonta represents California&rsquo\;s 18th Assembly District\, including Oakland\, Emeryville\, and Alameda. Bonta has spent her career advocating for students and working families\, previously serving as CEO of Oakland Promise and as President of the Alameda Unified School District Board. Her district priorities include education and healthcare equity\, affordable housing\, criminal justice reform\, and climate action. Building on her extensive experience in education and community advocacy\, she continues to lead efforts that create a more inclusive and resilient East Bay.</span></span></p>\n
LOCATION:Fluid 510 1544 Broadway
UID:e.1392.20800
SEQUENCE:3
DTSTAMP:20260423T172800Z
URL:https://business.oaklandchamber.com/events/details/inside-oakland-20800
END:VEVENT

END:VCALENDAR
