BEGIN:VCALENDAR
VERSION:2.0
PRODID:-//ChamberMaster//Event Calendar 2.0//EN
METHOD:PUBLISH
X-PUBLISHED-TTL:P3D
REFRESH-INTERVAL:P3D
CALSCALE:GREGORIAN
BEGIN:VEVENT
DTSTART:20210528T153000Z
DTEND:20210528T170000Z
X-MICROSOFT-CDO-ALLDAYEVENT:FALSE
SUMMARY:Inside Oakland
DESCRIPTION:
X-ALT-DESC;FMTTYPE=text/html:
LOCATION:Oakland Chamber 1333 Broadway\, P100 Oakland\, CA 94612
UID:e.1392.4392
SEQUENCE:3
DTSTAMP:20260419T231442Z
URL:https://business.oaklandchamber.com/events/details/inside-oakland-05-28-2021-4392
END:VEVENT

END:VCALENDAR
