BEGIN:VCALENDAR
VERSION:2.0
PRODID:-//ChamberMaster//Event Calendar 2.0//EN
METHOD:PUBLISH
X-PUBLISHED-TTL:P3D
REFRESH-INTERVAL:P3D
CALSCALE:GREGORIAN
BEGIN:VEVENT
DTSTART:20241030T220000Z
DTEND:20241031T000000Z
X-MICROSOFT-CDO-ALLDAYEVENT:FALSE
SUMMARY:Halloween Mixer
DESCRIPTION:Spend a Halloween-themed late afternoon meeting fellow Chamber members\, networking\, and enjoying drinks and small bites in our office. We will also have information about the Verizon Small Business Digital Ready Program and the grant that just opened up! Who knows you could secure a great lead\, meet a new business colleague\, or win a raffle prize!
X-ALT-DESC;FMTTYPE=text/html:<div class="xdj266r x11i5rnm xat24cr x1mh8g0r x1vvkbs x126k92a" style="margin: 0px\; overflow-wrap: break-word\; white-space-collapse: preserve\; font-family: &quot\;Segoe UI Historic&quot\;\, &quot\;Segoe UI&quot\;\, Helvetica\, Arial\, sans-serif\; color: rgb(5\, 5\, 5)\; font-size: 15px\;">\n<div dir="auto" style="font-family: inherit\;"><span style="font-size:16px\;"><span style="font-family:arial\;">Spend a Halloween-themed late afternoon meeting fellow Chamber members\, networking\, and enjoying drinks and small bites in our office. We will also have information about the Verizon Small Business Digital Ready Program and the grant that just opened up! Who knows you could secure a great lead\, meet a new business colleague\, or win a raffle prize!</span></span></div>\n</div>\n
LOCATION:300 Frank H. Ogawa Plaza\, Ste. 155 Oakland\, CA 94612
UID:e.1392.20641
SEQUENCE:3
DTSTAMP:20260424T071205Z
URL:https://business.oaklandchamber.com/events/details/halloween-mixer-20641
END:VEVENT

END:VCALENDAR
