BEGIN:VCALENDAR
VERSION:2.0
PRODID:-//ChamberMaster//Event Calendar 2.0//EN
METHOD:PUBLISH
X-PUBLISHED-TTL:P3D
REFRESH-INTERVAL:P3D
CALSCALE:GREGORIAN
BEGIN:VEVENT
DTSTART:20220817T233000Z
DTEND:20220818T010000Z
X-MICROSOFT-CDO-ALLDAYEVENT:FALSE
SUMMARY:DEI Program Showcase and Panel Discussion
DESCRIPTION:Featuring JP Morgan Chase\, Sensiba San Filippo and Salesforce\n\nPlease join the Oakland Metro Chamber's Diversity\, Equity\, and Inclusion (DEI) Program Showcase\, featuring panelists from JP Morgan Chase\, Sensiba San Filippo\, and Salesforce for an engaging in-person discussion facilitated by Ken Maxey\, The Oakland Chamber's DEI Committee Chair and Comcast's Director of Government Affairs. Learn about leading DEI programs and best practices from a cross-section of Oakland companies - from program inception to implementation. Attendees will not only learn firsthand about successful DEI program implementation but leave with the tools and resources to strengthen the DEI initiatives for your company or organization. Enjoy complimentary admission and appetizers.\n\n \n\nGuests are invited to arrive early to enjoy wine tasting from 4:00-4:30pm. The tasting will be led by Wine Noire\, a valued Chamber member\, and BIPOC and Women-Owned wine brokerage and online wine shop. In exciting news\, Wine Noire is expanding to Downtown Oakland with Coco Noire Wine Shop & Bar opening soon at 360 13th Street. Her shop will showcase wines offered by BIPOC\, POC\, Women\, and other diverse winemakers\, in addition to serving selling beer\, nonalcoholic beverages\, and small tapas bites by BIPOC\, POC\, and Women companies.
X-ALT-DESC;FMTTYPE=text/html:<em><span style="font-family:arial\,sans-serif\;"><span style="font-size:10pt\;">Featuring JP Morgan Chase\, Sensiba San Filippo and Salesforce</span></span></em><br />\n<span style="color:#201F1E\;"><span style="font-family:arial\,sans-serif\;"><span style="font-size:12.0pt\;">Please join the Oakland Metro Chamber&rsquo\;s </span></span></span><span style="color:black\;"><span style="font-family:arial\,sans-serif\;"><span style="font-size:12.0pt\;"><a href="https://r20.rs6.net/tn.jsp?f=001D35kUKb3CWcMRtnANkmKP3y57ZWmrMggA5FuNIc1xYx-dgrPyDk220zEUeG0_0olL-Sq-asBiplOlLSjUJA4r3hM9_P8Wynghr2SZCzdZKwBwk2AabX8MD1xCeMRBH4GUPkfeWcgN0tuJBQ2h5aGaadTVittqJnf-FwIxjzyXTs=&amp\;c=YnIMH-AS4BFbi9JYEkR4sXJ_nJWS_SuyAdYy1tWFuvsiq_r7Ko8L1w==&amp\;ch=-3L1LzW_j7U-1urRnJq3EsiCqcNLE0HKJRHz0clHn--5H-QtoQy_Tg==" target="_blank"><span style="color:#223E78\;">Diversity\, Equity\, and Inclusion (DEI)</span></a></span></span></span><span style="color:#201F1E\;"><span style="font-family:arial\,sans-serif\;"><span style="font-size:12.0pt\;"> Program Showcase\, featuring panelists from JP Morgan Chase\, Sensiba San Filippo\, and Salesforce for an engaging in-person discussion facilitated by Ken Maxey\, The Oakland Chamber&rsquo\;s DEI Committee Chair and Comcast&rsquo\;s Director of Government Affairs. Learn about leading DEI programs and best practices from a cross-section of Oakland companies - from program inception to implementation. Attendees will not only learn firsthand about successful DEI program implementation but leave with the tools and resources to strengthen the DEI initiatives for your company or organization. Enjoy complimentary admission and appetizers.</span></span></span><br />\n&nbsp\;<br />\n<span style="color:#201F1E\;"><span style="font-family:arial\,sans-serif\;"><span style="font-size:12.0pt\;">Guests are invited to arrive early to enjoy wine tasting from 4:00-4:30pm. The tasting will be led by </span></span></span><span style="color:black\;"><span style="font-family:arial\,sans-serif\;"><span style="font-size:12.0pt\;"><a href="https://r20.rs6.net/tn.jsp?f=001D35kUKb3CWcMRtnANkmKP3y57ZWmrMggA5FuNIc1xYx-dgrPyDk226Lo2mUejtd1KxJB284uGlyCSVja8_coVzG_2qsCs69lyCt7g3P_PBBh_oBFLqR3ywcAEf_j7fygqEguvpZwgN9SiErBAEQ1hw==&amp\;c=YnIMH-AS4BFbi9JYEkR4sXJ_nJWS_SuyAdYy1tWFuvsiq_r7Ko8L1w==&amp\;ch=-3L1LzW_j7U-1urRnJq3EsiCqcNLE0HKJRHz0clHn--5H-QtoQy_Tg==" target="_blank"><span style="color:#223E78\;">Wine Noire</span></a></span></span></span><span style="color:#201F1E\;"><span style="font-family:arial\,sans-serif\;"><span style="font-size:12.0pt\;">\, a valued Chamber member\, and BIPOC and Women-Owned wine brokerage and online wine shop. In exciting news\, Wine Noire is expanding to Downtown Oakland with Coco Noire Wine Shop &amp\; Bar opening soon at 360 13th Street. Her shop will showcase wines offered by BIPOC\, POC\, Women\, and other diverse winemakers\, in addition to serving selling beer\, nonalcoholic beverages\, and small tapas bites by BIPOC\, POC\, and Women companies.</span></span></span>
LOCATION:Loyal to the Soil 1719 Broadway
UID:e.1392.20296
SEQUENCE:3
DTSTAMP:20260426T032221Z
URL:https://business.oaklandchamber.com/events/details/dei-program-showcase-and-panel-discussion-08-17-2022-20296
END:VEVENT

END:VCALENDAR
