BEGIN:VCALENDAR
VERSION:2.0
PRODID:-//ChamberMaster//Event Calendar 2.0//EN
METHOD:PUBLISH
X-PUBLISHED-TTL:P3D
REFRESH-INTERVAL:P3D
CALSCALE:GREGORIAN
BEGIN:VEVENT
DTSTART:20221012T233000Z
DTEND:20221013T010000Z
X-MICROSOFT-CDO-ALLDAYEVENT:FALSE
SUMMARY:DEI in the Supply Chain Process: How to Access Big Contracts as a Small Minority-owned Business
DESCRIPTION:DEI in the Supply Chain Process: How to Access Big Contracts as a Small Minority-owned Business\n\nA Discussion of Supplier Diversity w/ JP Morgan Chase\, Turner Construction & AC Transit \n\n\n\nHow can diverse businesses get on supplier lists and win contract bids from big corporations and public agencies? What opportunities exist for small local businesses to be chosen to provide goods and services for large corporations? What steps can businesses take to maximize their chance be selected by as a local supplier by purchasing departments staff? How can businesses prepare to successfully provide the contracted deliverables? Presented by the Chamber's Diversity\, Equity and Inclusion Committee\, this panel will feature leading Supplier Diversity programs and best practices from a cross-section of Oakland companies. Complimentary admission.\n\nPanelists:\n\nLaSandra Hunt\, Vice President\, Commercial Banker & Supplier Diversity Ambassador at JPMorgan Chase\n\nVictor Nunez\, Business Development Manager at Turner Construction Company\n\nBrooklyn Moore-Green\, Contract Compliance Program Specialist at AC Transit\n\nFacilitated by Ken Maxey\, Comcast Government Affairs Director & DEI Committee Chair.
X-ALT-DESC;FMTTYPE=text/html:<span style="font-size:14px\;"><span style="font-size:16px\;"><strong>DEI in the Supply Chain Process: How to Access Big Contracts as a Small Minority-owned Business</strong></span><br />\n<em>A Discussion of Supplier Diversity w/ JP Morgan Chase\, Turner Construction &amp\; AC Transit </em><br />\n<br />\nHow can diverse businesses get on supplier lists and win contract bids from big corporations and public agencies? What opportunities exist for small local businesses to be chosen to provide goods and services for large corporations? What steps can businesses take to maximize their chance be selected by as a local supplier by purchasing departments staff? How can businesses prepare to successfully provide the contracted deliverables? P</span><span style="font-size:14px\;">resented by the Chamber&rsquo\;s Diversity\, Equity and Inclusion Committee\, this panel will feature leading Supplier Diversity programs and best practices from a cross-section of Oakland companies. Complimentary admission.<br />\nPanelists:</span><br />\nLaSandra Hunt\, Vice President\, Commercial Banker &amp\; Supplier Diversity Ambassador at JPMorgan Chase<br />\nVictor Nunez\, Business Development Manager at Turner Construction Company<br />\nBrooklyn Moore-Green\, Contract Compliance Program Specialist at AC Transit<br />\n<span style="font-size:14px\;">Facilitated by Ken Maxey\, Comcast Government Affairs Director &amp\; DEI Committee Chair.</span>
LOCATION:Via Zoom Register to receive zoom link
UID:e.1392.20306
SEQUENCE:3
DTSTAMP:20260425T141534Z
URL:https://business.oaklandchamber.com/events/details/dei-in-the-supply-chain-process-how-to-access-big-contracts-as-a-small-minority-owned-business-10-12-2022-20306
END:VEVENT

END:VCALENDAR
