BEGIN:VCALENDAR
VERSION:2.0
PRODID:-//ChamberMaster//Event Calendar 2.0//EN
METHOD:PUBLISH
X-PUBLISHED-TTL:P3D
REFRESH-INTERVAL:P3D
CALSCALE:GREGORIAN
BEGIN:VEVENT
DTSTART:20260429T210000Z
DTEND:20260429T223000Z
X-MICROSOFT-CDO-ALLDAYEVENT:FALSE
SUMMARY:Community Impact Committee: Workforce Development Part 2
DESCRIPTION:Join the Oakland Metro Chamber's Community Impact Committee for the second part in a three-part Workforce Development Series. On a new date of April 29th\, this session will bring together employers and workforce leaders for continuing a collaborative dialogue on hiring needs\, talent development\, and shared challenges. Together\, we'll explore what's working\, identify gaps\, and lay the foundation for future partnerships that strengthen Oakland's workforce and local economy.
X-ALT-DESC;FMTTYPE=text/html:<span style="box-sizing: border-box\; font-size: 16px\; color: rgb(0\, 0\, 0)\; font-family: Aptos\, Aptos_EmbeddedFont\, Aptos_MSFontService\, Calibri\, Helvetica\, sans-serif\;">Join the Oakland Metro Chamber&rsquo\;s Community Impact Committee for the second part in a three-part Workforce Development Series. On <b>a new date of April 29th</b></span><span style="box-sizing: border-box\; font-size: 16px\; color: rgb(0\, 0\, 0)\; font-family: Aptos\, Aptos_EmbeddedFont\, Aptos_MSFontService\, Calibri\, Helvetica\, sans-serif\;">\, this session will bring together employers and workforce leaders for continuing a collaborative dialogue on hiring needs\, talent development\, and shared challenges. Together\, we&rsquo\;ll explore what&rsquo\;s working\, identify gaps\, and lay the foundation for future partnerships that strengthen Oakland&rsquo\;s workforce and local economy.</span>
LOCATION:Samuel Merritt University 525 12th St\, 10th Fl\, Room MC1024
UID:e.1392.20802
SEQUENCE:3
DTSTAMP:20260424T082014Z
URL:https://business.oaklandchamber.com/events/details/community-impact-committee-workforce-development-part-2-20802
END:VEVENT

END:VCALENDAR
