BEGIN:VCALENDAR
VERSION:2.0
PRODID:-//ChamberMaster//Event Calendar 2.0//EN
METHOD:PUBLISH
X-PUBLISHED-TTL:P3D
REFRESH-INTERVAL:P3D
CALSCALE:GREGORIAN
BEGIN:VEVENT
DTSTART:20260211T220000Z
DTEND:20260211T233000Z
X-MICROSOFT-CDO-ALLDAYEVENT:FALSE
SUMMARY:Community Impact Committee: Open House
DESCRIPTION:The Oakland Metro Chamber's Community Impact Committee is kicking off 2026 with an Open House highlighting and celebrating the Committee's work in 2025 and plans for 2026. The Community Impact Committee (CIC) is a unique\, structured program that brings together for-profit and non-profit organizations to build productive partnerships committed to philanthropy and social mission. This in-person event will be held downstairs in the historic Rotunda Building. Light bites and refreshments will be available.
X-ALT-DESC;FMTTYPE=text/html:The Oakland Metro Chamber&#39\;s Community Impact Committee is kicking off 2026 with an Open House highlighting and celebrating the Committee&#39\;s work in 2025 and plans for 2026. The Community Impact Committee (CIC) is a unique\, structured program that brings together for-profit and non-profit organizations to build productive partnerships committed to philanthropy and social mission. This in-person event will be held downstairs in the historic Rotunda Building. Light bites and refreshments will be available.&nbsp\;<!-- notionvc: 09e960b1-abcc-49dd-9160-235f51daa450 -->
LOCATION:Rotunda Building\, downstairs conference room. 300 Frank H. Ogawa Plaza
UID:e.1392.20801
SEQUENCE:3
DTSTAMP:20260423T154612Z
URL:https://business.oaklandchamber.com/events/details/community-impact-committee-open-house-20801
END:VEVENT

END:VCALENDAR
